BEGIN:VCALENDAR
VERSION:2.0
PRODID:-//Paint Ontario - ECPv6.15.17.1//NONSGML v1.0//EN
CALSCALE:GREGORIAN
METHOD:PUBLISH
X-ORIGINAL-URL:https://paintontario.com
X-WR-CALDESC:Events for Paint Ontario
REFRESH-INTERVAL;VALUE=DURATION:PT1H
X-Robots-Tag:noindex
X-PUBLISHED-TTL:PT1H
BEGIN:VTIMEZONE
TZID:America/Toronto
BEGIN:DAYLIGHT
TZOFFSETFROM:-0500
TZOFFSETTO:-0400
TZNAME:EDT
DTSTART:20250309T070000
END:DAYLIGHT
BEGIN:STANDARD
TZOFFSETFROM:-0400
TZOFFSETTO:-0500
TZNAME:EST
DTSTART:20251102T060000
END:STANDARD
BEGIN:DAYLIGHT
TZOFFSETFROM:-0500
TZOFFSETTO:-0400
TZNAME:EDT
DTSTART:20260308T070000
END:DAYLIGHT
BEGIN:STANDARD
TZOFFSETFROM:-0400
TZOFFSETTO:-0500
TZNAME:EST
DTSTART:20261101T060000
END:STANDARD
BEGIN:DAYLIGHT
TZOFFSETFROM:-0500
TZOFFSETTO:-0400
TZNAME:EDT
DTSTART:20270314T070000
END:DAYLIGHT
BEGIN:STANDARD
TZOFFSETFROM:-0400
TZOFFSETTO:-0500
TZNAME:EST
DTSTART:20271107T060000
END:STANDARD
END:VTIMEZONE
BEGIN:VEVENT
DTSTART;VALUE=DATE:20260301
DTEND;VALUE=DATE:20260323
DTSTAMP:20260420T005722
CREATED:20260223T205249Z
LAST-MODIFIED:20260227T013938Z
UID:19155-1772323200-1774223999@paintontario.com
SUMMARY:2026 Online Entry
DESCRIPTION:CALL TO ARTISTS – Online Entry Open March 1 to 22\, 2026
URL:https://paintontario.com/event/paint-ontario-2026-opening-night-gala/
LOCATION:Main Gallery Show Floor\, 20 Municipal Dr\, Grand Bend\, Ontario\, Canada
END:VEVENT
END:VCALENDAR