BEGIN:VCALENDAR
VERSION:2.0
PRODID:-//Paint Ontario - ECPv6.15.17.1//NONSGML v1.0//EN
CALSCALE:GREGORIAN
METHOD:PUBLISH
X-WR-CALNAME:Paint Ontario
X-ORIGINAL-URL:https://paintontario.com
X-WR-CALDESC:Events for Paint Ontario
REFRESH-INTERVAL;VALUE=DURATION:PT1H
X-Robots-Tag:noindex
X-PUBLISHED-TTL:PT1H
BEGIN:VTIMEZONE
TZID:America/Toronto
BEGIN:DAYLIGHT
TZOFFSETFROM:-0500
TZOFFSETTO:-0400
TZNAME:EDT
DTSTART:20250309T070000
END:DAYLIGHT
BEGIN:STANDARD
TZOFFSETFROM:-0400
TZOFFSETTO:-0500
TZNAME:EST
DTSTART:20251102T060000
END:STANDARD
BEGIN:DAYLIGHT
TZOFFSETFROM:-0500
TZOFFSETTO:-0400
TZNAME:EDT
DTSTART:20260308T070000
END:DAYLIGHT
BEGIN:STANDARD
TZOFFSETFROM:-0400
TZOFFSETTO:-0500
TZNAME:EST
DTSTART:20261101T060000
END:STANDARD
BEGIN:DAYLIGHT
TZOFFSETFROM:-0500
TZOFFSETTO:-0400
TZNAME:EDT
DTSTART:20270314T070000
END:DAYLIGHT
BEGIN:STANDARD
TZOFFSETFROM:-0400
TZOFFSETTO:-0500
TZNAME:EST
DTSTART:20271107T060000
END:STANDARD
END:VTIMEZONE
BEGIN:VEVENT
DTSTART;TZID=America/Toronto:20260510T120000
DTEND;TZID=America/Toronto:20260510T160000
DTSTAMP:20260425T123308
CREATED:20260310T000313Z
LAST-MODIFIED:20260314T171354Z
UID:19609-1778414400-1778428800@paintontario.com
SUMMARY:Francis Martin
DESCRIPTION:  \n  \nTattoo Demo on Mother’s Day \nAt Paint Ontario\, I will demonstrate the tattooing process using practice skin.  The process is exactly the same as tattooing on a real person\, the same machines\, techniques and attention to detail\, but instead of human skin\, I will work on a latex practice skin.  As I work\, the tattoo needle leaves marks in the material\, allowing the design to gradually take shape. Visitors will be able to watch the process step by step and see how a tattoo is built from the first lines to the finished image.  This demonstration offers a close look at the craftsmanship\, precision and artistry behind tattooing. I will answer questions and talk about the process as I work. I have been tattooing professionally for seven years and enjoy sharing the art and techique with others
URL:https://paintontario.com/event/francis-martin/
LOCATION:Main Gallery Show Floor\, 20 Municipal Dr\, Grand Bend\, Ontario\, Canada
CATEGORIES:Demonstrations
ATTACH;FMTTYPE=image/jpeg:https://paintontario.com/paintontario/wp-content/uploads/2019/05/Francis-Martin-demo-2.jpg
END:VEVENT
BEGIN:VEVENT
DTSTART;TZID=America/Toronto:20260514T120000
DTEND;TZID=America/Toronto:20260514T160000
DTSTAMP:20260425T123309
CREATED:20260310T000505Z
LAST-MODIFIED:20260310T000505Z
UID:19611-1778760000-1778774400@paintontario.com
SUMMARY:Jeff Vola
DESCRIPTION:Portrait in Pencil – When Jeff Vola moved to Grand Bend in November\, 2021\, he had no idea his life would change as dramatically as it has. \nJeff began working with art at age three\, with the encouragement of his mother\, Beverly – a talented artist in her own right. Having put away the crayons and pencil crayons of youth\, his current art medium is graphite pencil. Because it’s always dry\, he’s able to stop and start drawing whenever the mood\, or life\, allows. \nJeff became quite well known for his drawings in Ontario about 40 years ago and displayed his art in over 20 art galleries throughout the GTA. His father\, John Vola\, was his business manager and best friend. However\, when John passed away suddenly in 1985\, so did Jeff’s love for artwork. During those long years\, everything he created was put away in a drawer. He focused on raising his family and running his sign-writing and manufacturing business in Burlington ON. Formally trained as a sign painter\, he remained in the business for over 45 years. For 35 of those years\, he successfully designed and manufactured interior and exterior signage for Loblaws. \nThen the Covid-19 pandemic ground everything and everyone. Like so many\, Jeff was laid off for three weeks to “flatten the curve”. With nothing to do\, he got some art supplies to keep himself busy. A portrait he drew of the 1960’s Batman television character\, Adam West\, received over 15\,000 likes on Facebook! This launched his art interest again\, starting him back on a road he was always meant to travel. Since January\, 2020 he has created over 1500 drawings and commissioned portraits. \nArt is now a full-time occupation\, and he’s loving every minute of it! Jeff’s inspiration comes from people’s smiles and their tears. It’s his attention to the nuances and small details in his subject’s face which has become the hallmark of his work. \nEvery artist\, no matter where they are on their artist journey\, struggles with some aspect of their passion. Jeff says that for him\, it’s getting his subject’s eyes just right. After all\, the eyes are the windows to the soul\, and his drawings bring to light that spark of life so often missing in other artists’ work. In the summer of 2025\, he’ll be offering classes at the Community Centre in Grand Bend with Teresa Marie Phillips\, also a well-known local artist. In addition\, he’s continue to have a strong internet presence with his art commissions of portraits and pets\, along with his wonderful depictions of retro television stars.
URL:https://paintontario.com/event/jeff-vola/
LOCATION:Main Gallery Show Floor\, 20 Municipal Dr\, Grand Bend\, Ontario\, Canada
CATEGORIES:Demonstrations
ATTACH;FMTTYPE=image/jpeg:https://paintontario.com/paintontario/wp-content/uploads/2022/06/Jeff-Vola_1-079-663x1024-1.jpg
END:VEVENT
BEGIN:VEVENT
DTSTART;TZID=America/Toronto:20260515T120000
DTEND;TZID=America/Toronto:20260515T160000
DTSTAMP:20260425T123309
CREATED:20260419T000349Z
LAST-MODIFIED:20260419T000437Z
UID:20577-1778846400-1778860800@paintontario.com
SUMMARY:Ben Annett -Ben’s Lemonaid
DESCRIPTION:Ben’s Lemonaid is Junk \n  \nI’m trying to be as green as possible while still making things\, trying to make an example of creative recycling. Under the name Ben’s Lemonaid I create naturalistic sculptures\, working with reclaimed and recycled materials. Mostly I use old aluminum siding and eavestroughs\, burned out lightbulbs and reclaimed wire. Most pieces are 100% recycled materials other than screws and fasteners\, sometimes adhesives and safety related bits when needed. I don’t add any paint. \nDemo Description:   For my demonstration I’ll be working on a large (4-5’) wall mounted fish sculpture combining a 2nd hand LED light string\, reclaimed eavestroughs\, reused light fixtures and no paint at all.  Imagine a futuristic robot fish that’s been around the pond a few times. \nhttps://www.benslemonaid.com \nhttps://www.instagram.com/benslemonaid/
URL:https://paintontario.com/event/ben-annett-bens-lemonaid/
LOCATION:Main Gallery Show Floor\, 20 Municipal Dr\, Grand Bend\, Ontario\, Canada
CATEGORIES:Demonstrations
ATTACH;FMTTYPE=image/jpeg:https://paintontario.com/paintontario/wp-content/uploads/2026/04/IMG_1539.jpg
END:VEVENT
BEGIN:VEVENT
DTSTART;TZID=America/Toronto:20260516T000000
DTEND;TZID=America/Toronto:20260516T160000
DTSTAMP:20260425T123309
CREATED:20260227T012550Z
LAST-MODIFIED:20260309T232916Z
UID:19228-1778889600-1778947200@paintontario.com
SUMMARY:Suzette Terry
DESCRIPTION:Demonstration in Collage \nWatch Suzette build and work up a collage using a variety of materials. Focus on application techniques and finishes and the correct mediums for success. \nCreating florals and forests with acrylic paint and collage materials: from hand painted papers\, cut up old paintings\, Japanese papers\,  and stamped images made from linocuts and found materials. Be prepared to be creative! \nBio: Suzette is a very busy artist in the South Central Ontario art scene. She graduated from the University of Guelph in 1990 with an Honor’s Degree in Fine Art and Business. \nHaving spent her early years in the picturesque town of Fergus\, two in Kitchener\, ten in Meaford\, she returned to Port Stanley in 2023. \nAll of these places have left a mark on her work and her scope of expression. Her subjects range from the human figure to vibrant landscapes\, her mediums follow suit\, ranging from work both in oil and acrylic\, to printmaking and mixed media collages.  It is this shifting of gears from one medium to the next that spurs Suzette to new and innovative discoveries in both technique and content. \nBold\, energetic form and vibrant colour are the mark of her style. She has built on her influences: the colours of the Fauves\, the abstraction of Picasso\, and the simplicity of Matisse.  A trip to Europe with visits to seven major museums and galleries has laid the groundwork for further exciting explorations in her work; including working on large scale canvases. Subject matter ranges from Northern landscapes\, to floral still life\, abstracts and figurative imagery. \nIn addition to creating art Suzette has taught many workshops in collage\, Paint Jams\, and lectures around Central and Southern Ontario\, encouraging and inspiring other artists. \nShe is currently represented by:\nKarger Gallery\, Elora\nArts on Queen\, Beaches\, Toronto\nMarten Arts\, Bayfield\nPartial Gallery – Online\nInstagram: suzette.terry \nwww.suzetteterryartist.ca
URL:https://paintontario.com/event/suzette-terry/
LOCATION:Main Gallery Show Floor\, 20 Municipal Dr\, Grand Bend\, Ontario\, Canada
CATEGORIES:Demonstrations
ATTACH;FMTTYPE=image/jpeg:https://paintontario.com/paintontario/wp-content/uploads/2026/01/20250510_031010_IMG_0085-scaled.jpg
END:VEVENT
BEGIN:VEVENT
DTSTART;TZID=America/Toronto:20260516T000000
DTEND;TZID=America/Toronto:20260517T160000
DTSTAMP:20260425T123309
CREATED:20260313T194645Z
LAST-MODIFIED:20260405T154525Z
UID:19811-1778889600-1779033600@paintontario.com
SUMMARY:Backroad Collective - Mexican Culture
DESCRIPTION:Main Gallery and on the grounds  \n\n\n\nInternational Student Demonstrations in Mexican Culture: Music\, Dance & Visual Art \nBienvenidos to the Grand Bend Riviera! Take a trip to the vibrant streets of Mexico at Paint Ontario\, complete with music\, dance\, art and snacks! Our young guest artists from Monterrey Mexico will lead you through exciting experiences sharing their history\, culture and connections with Canada.  \nCamexicanus & Backroad Collective is a non profit organization focused on programs and opportunities for youth in rural Canada and Mexico. We are made up of collective communities and throughout the year we have various exchange opportunities for students to form relationships\, learn together and create unique experiences in our communities.  \nBackroad Collective SW Ontario has been working in the Grand Bend area for 5 years. In partnership with the Grand Bend Art Centre\, we offer summer camp and school year programs for kids and youth throughout the region. Check our www.camexicanus.ca or visit us at Paint Ontario for more information about our summer camps.  \n 
URL:https://paintontario.com/event/backroad-collective-international-student-demonstrations-in-mexican-culture-music-dance-visual-art-2/
LOCATION:Venue Grounds\, 20 Municipal Dr\, Grand Bend\, Canada
CATEGORIES:Demonstrations
ATTACH;FMTTYPE=image/jpeg:https://paintontario.com/paintontario/wp-content/uploads/2026/03/GregFacePaint.jpg
END:VEVENT
BEGIN:VEVENT
DTSTART;TZID=America/Toronto:20260516T120000
DTEND;TZID=America/Toronto:20260516T160000
DTSTAMP:20260425T123309
CREATED:20260310T001813Z
LAST-MODIFIED:20260310T001813Z
UID:19618-1778932800-1778947200@paintontario.com
SUMMARY:Janice Cuckovic
DESCRIPTION:The Art of Ukrainian Eggs – Learn the art of creating pysanky – traditional Ukrainian eggs \nJanice is a retired educator who spent her career in Windsor\, Ontario\, where she and her husband Petar\, also an educator\, raised their two daughters. Upon retirement they moved to Port Franks\, where Janice has immersed herself in the creative community. \nJanice learned the art of creating pysanky – traditional Ukrainian eggs – in her teens and has taken it up again in earnest over the last two years leading workshops and donating dozens of her creations to help raise funds for Ukraine. She honours her Ukrainian grandparents who emigrated to Canada from the small village of Sosnitza and is very grateful for the opportunity to share this tradition. \n“Writing eggs using the traditional method requires patience and skill\, but the results are stunning!”
URL:https://paintontario.com/event/janice-cuckovic/
LOCATION:Main Gallery Show Floor\, 20 Municipal Dr\, Grand Bend\, Ontario\, Canada
CATEGORIES:Demonstrations
ATTACH;FMTTYPE=image/png:https://paintontario.com/paintontario/wp-content/uploads/2026/03/Screenshot-2026-03-09-at-8.15.21-PM.png
END:VEVENT
BEGIN:VEVENT
DTSTART;TZID=America/Toronto:20260516T120000
DTEND;TZID=America/Toronto:20260516T160000
DTSTAMP:20260425T123309
CREATED:20260310T002743Z
LAST-MODIFIED:20260322T194359Z
UID:19621-1778932800-1778947200@paintontario.com
SUMMARY:Judy Ross-Mack
DESCRIPTION:Indigenous Story Telling Event \nJoin us as Indigenous Artist\, Judy Ross-Mack\, presents her paintings of 8 spirit animals. Stories Written by Red George. \nUnder the tent a narrative unfolds that transcends time and culture. \nEach piece\, meticulously crafted with traditional techniques and imbued with ancestral wisdom\, offers a glimpse into the rich tapestry of indigenous heritage. The vibrant hues speak of a connection to the land and its animals. \nWe invite visitors to immerse themselves in the stories told through art and become part of this small sanctuary as you are guided on a journey of discovery and connection to a world steeped in tradition and reverence. \nJudy Ross Mack\, is a Swampy Cree painter and digital artist from the Territory Weenusk First Nations. Judy is a 60s scoop survivor that has been part of the KW Indigenous community since she was 16 years old\, currently residing in Waterloo. https://www.judyrossmackart.com/ \nThe Spirit Animal Tent was made possible through a $10\,000 grant from the Municipality of Lambton Shores Vibrancy Grant and Cordelio Power in 2024 \nThe Pinedale Motel has generously sponsored this event with lodgings for Judy Ross-Mac and her team. \n 
URL:https://paintontario.com/event/judy-ross-mack/
LOCATION:Venue Grounds\, 20 Municipal Dr\, Grand Bend\, Canada
CATEGORIES:Demonstrations,Special Events
ATTACH;FMTTYPE=image/jpeg:https://paintontario.com/paintontario/wp-content/uploads/2026/03/JudyRossMacSpiritTent-scaled.jpg
END:VEVENT
BEGIN:VEVENT
DTSTART;TZID=America/Toronto:20260516T120000
DTEND;TZID=America/Toronto:20260516T160000
DTSTAMP:20260425T123309
CREATED:20260421T135912Z
LAST-MODIFIED:20260421T193712Z
UID:20653-1778932800-1778947200@paintontario.com
SUMMARY:Alicia Orr - Beadwork
DESCRIPTION:Alicia Orr of Alicia’s Beadworks will be demonstrating the art of handmade Indigenous beadwork\, showcasing a variety of traditional and contemporary techniques. Throughout the demonstration\, she will be creating fringe earrings\, working on a beaded medallion\, flat stitch earrings\, and a tubular peyote stitch lanyard.\n\nVisitors will have the opportunity to observe the step-by-step process\, learn about materials and techniques\, and explore the meaning behind color choices and patterns. Alicia will also have a binder of previously completed custom work available to view\, highlighting her specialty in custom-designed beadwork.\n\nThis demonstration highlights both the cultural significance and modern creativity of beadwork\, with finished pieces and works in progress available to view and purchase at the Art Centre Shoppe.\n\n.http://aliciasbeadworks.ca
URL:https://paintontario.com/event/alicia-orr-alicias-beadworks-2/
LOCATION:Main Gallery Show Floor\, 20 Municipal Dr\, Grand Bend\, Ontario\, Canada
CATEGORIES:Demonstrations
ATTACH;FMTTYPE=image/png:https://paintontario.com/paintontario/wp-content/uploads/2026/04/1000015889.png
END:VEVENT
BEGIN:VEVENT
DTSTART;TZID=America/Toronto:20260517T120000
DTEND;TZID=America/Toronto:20260517T160000
DTSTAMP:20260425T123309
CREATED:20260309T233153Z
LAST-MODIFIED:20260316T211537Z
UID:19590-1779019200-1779033600@paintontario.com
SUMMARY:Layne Van Loo & Elaine Guitar Van Loo
DESCRIPTION:Still Life Demo  \nElaine and Layne will be demonstrating the art of drawing a still life\, demystifying the complexity of still life setting  with methods of sight\, size and proportional measurement. For the curious and adventurous observers\, a few supplies will be available so participants can also try their hand at still life drawing. There will be easels available if you want to join in. \nBio: Elaine and Layne discovered Paint Ontario in 2018 as exhibitors and were so impressed with the entire experience that they have returned every year since as both exhibitors and demonstrators. Among other accolades won at Paint Ontario\, Layne’s acrylic won 2019’s Wildlife Choice Award and Elaine won First Place in our portrait category another year. We are so honoured to have these two artists as an integral part of our show year after year. They both impress gallery audiences with their demonstrations. \nLearn more about the work of these two talented artists: \nView Elaine’s portfolio here. View Layne’s portfolio here.
URL:https://paintontario.com/event/layne-van-loo-elaine-guitar-van-loo/
LOCATION:Main Gallery Show Floor\, 20 Municipal Dr\, Grand Bend\, Ontario\, Canada
CATEGORIES:Demonstrations
ATTACH;FMTTYPE=image/jpeg:https://paintontario.com/paintontario/wp-content/uploads/2026/03/VanLoos.jpg
END:VEVENT
BEGIN:VEVENT
DTSTART;TZID=America/Toronto:20260517T120000
DTEND;TZID=America/Toronto:20260517T160000
DTSTAMP:20260425T123309
CREATED:20260421T135537Z
LAST-MODIFIED:20260421T193647Z
UID:20656-1779019200-1779033600@paintontario.com
SUMMARY:Alicia Orr  - Beadwork
DESCRIPTION:Alicia of Alicia’s Beadworks will be demonstrating the art of handmade Indigenous beadwork\, showcasing a variety of traditional and contemporary techniques. Throughout the demonstration\, she will be creating fringe earrings\, working on a beaded medallion\, flat stitch earrings\, and a tubular peyote stitch lanyard.\n\nVisitors will have the opportunity to observe the step-by-step process\, learn about materials and techniques\, and explore the meaning behind color choices and patterns. Alicia will also have a binder of previously completed custom work available to view\, highlighting her specialty in custom-designed beadwork.\n\nThis demonstration highlights both the cultural significance and modern creativity of beadwork\, with finished pieces and works in progress available to view and purchase at the Art Centre Shoppe.\nhttp://aliciasbeadworks.ca
URL:https://paintontario.com/event/alicia-orr-alicias-beadworks/
LOCATION:Main Gallery Show Floor\, 20 Municipal Dr\, Grand Bend\, Ontario\, Canada
CATEGORIES:Demonstrations
ATTACH;FMTTYPE=image/png:https://paintontario.com/paintontario/wp-content/uploads/2026/04/1000015889.png
END:VEVENT
END:VCALENDAR